BEGIN:VCALENDAR
VERSION:2.0
PRODID:-// - ECPv6.15.20//NONSGML v1.0//EN
CALSCALE:GREGORIAN
METHOD:PUBLISH
X-ORIGINAL-URL:https://ecologyactioncenter.org
X-WR-CALDESC:Events for 
REFRESH-INTERVAL;VALUE=DURATION:PT1H
X-Robots-Tag:noindex
X-PUBLISHED-TTL:PT1H
BEGIN:VTIMEZONE
TZID:America/Chicago
BEGIN:DAYLIGHT
TZOFFSETFROM:-0600
TZOFFSETTO:-0500
TZNAME:CDT
DTSTART:20250309T080000
END:DAYLIGHT
BEGIN:STANDARD
TZOFFSETFROM:-0500
TZOFFSETTO:-0600
TZNAME:CST
DTSTART:20251102T070000
END:STANDARD
BEGIN:DAYLIGHT
TZOFFSETFROM:-0600
TZOFFSETTO:-0500
TZNAME:CDT
DTSTART:20260308T080000
END:DAYLIGHT
BEGIN:STANDARD
TZOFFSETFROM:-0500
TZOFFSETTO:-0600
TZNAME:CST
DTSTART:20261101T070000
END:STANDARD
BEGIN:DAYLIGHT
TZOFFSETFROM:-0600
TZOFFSETTO:-0500
TZNAME:CDT
DTSTART:20270314T080000
END:DAYLIGHT
BEGIN:STANDARD
TZOFFSETFROM:-0500
TZOFFSETTO:-0600
TZNAME:CST
DTSTART:20271107T070000
END:STANDARD
END:VTIMEZONE
BEGIN:VEVENT
DTSTART;TZID=America/Chicago:20260411T080000
DTEND;TZID=America/Chicago:20260411T100000
DTSTAMP:20260421T213912
CREATED:20260324T160506Z
LAST-MODIFIED:20260324T160506Z
UID:10000925-1775894400-1775901600@ecologyactioncenter.org
SUMMARY:Grand Prairie Bird Alliance Bird Outing
DESCRIPTION:Spring migration is upon us\, so there is no better time to join Grand Prairie Bird Alliance for a bird outing! \nJoin local birdwatching experts for this bird outing at S.H. West Park\, (30052 E. 750 North Rd.\, LeRoy) on April 11 from 8:00-10:00am. The outing is appropriate for all ages and all skill levels. There is no pressure to know anything about birds. We can give you some tips\, and we even have loaner binoculars. \nIf you have questions about accessibility\, please email grandprairiebirdalliance@gmail.com.
URL:https://ecologyactioncenter.org/event/grand-prairie-bird-alliance-bird-outing-5/
LOCATION:S.H. West Park\, 30052 E. 750 North Rd.\, Leroy\, IL
ATTACH;FMTTYPE=image/jpeg:https://ecologyactioncenter.org/wp-content/uploads/2026/03/Chestnut_sided_warbler.jpg
ORGANIZER;CN="Grand Prairie Bird Alliance":MAILTO:grandprairiebirdalliance@gmail.com
END:VEVENT
END:VCALENDAR