BEGIN:VCALENDAR
VERSION:2.0
PRODID:-// - ECPv6.15.20//NONSGML v1.0//EN
CALSCALE:GREGORIAN
METHOD:PUBLISH
X-ORIGINAL-URL:https://ecologyactioncenter.org
X-WR-CALDESC:Events for 
REFRESH-INTERVAL;VALUE=DURATION:PT1H
X-Robots-Tag:noindex
X-PUBLISHED-TTL:PT1H
BEGIN:VTIMEZONE
TZID:America/Chicago
BEGIN:DAYLIGHT
TZOFFSETFROM:-0600
TZOFFSETTO:-0500
TZNAME:CDT
DTSTART:20250309T080000
END:DAYLIGHT
BEGIN:STANDARD
TZOFFSETFROM:-0500
TZOFFSETTO:-0600
TZNAME:CST
DTSTART:20251102T070000
END:STANDARD
BEGIN:DAYLIGHT
TZOFFSETFROM:-0600
TZOFFSETTO:-0500
TZNAME:CDT
DTSTART:20260308T080000
END:DAYLIGHT
BEGIN:STANDARD
TZOFFSETFROM:-0500
TZOFFSETTO:-0600
TZNAME:CST
DTSTART:20261101T070000
END:STANDARD
BEGIN:DAYLIGHT
TZOFFSETFROM:-0600
TZOFFSETTO:-0500
TZNAME:CDT
DTSTART:20270314T080000
END:DAYLIGHT
BEGIN:STANDARD
TZOFFSETFROM:-0500
TZOFFSETTO:-0600
TZNAME:CST
DTSTART:20271107T070000
END:STANDARD
END:VTIMEZONE
BEGIN:VEVENT
DTSTART;VALUE=DATE:20260424
DTEND;VALUE=DATE:20260428
DTSTAMP:20260421T202555
CREATED:20260326T213033Z
LAST-MODIFIED:20260326T213157Z
UID:10000932-1776988800-1777334399@ecologyactioncenter.org
SUMMARY:Central Illinois 2026 City Nature Challenge
DESCRIPTION:The Grand Prairie Master Naturalists would like to invite you and your network to join the City Nature Challenge 2026. From Friday\, April 24 to Monday\, April 27\, 2026\, cities around the world will be using the iNaturalist app to find and photograph as many wild plants\, animals\, and fungi as possible. Our observations will help scientists and land managers better understand the species that thrive in our region. \nNo expertise is needed! Anyone aged 13+ can participate\, and it’s completely free and easy. \nHow to Participate:\n\nDownload the App: Get the free iNaturalist app on your smartphone (available on the App Store or Google Play) and create an account. Training for using the app will be offered; please look out for training announcements in the future.\nFind Wildlife: Explore your local park\, backyard\, neighborhood\, or natural area and take pictures of any wild plants\, fungi\, or animals you find from April 24-27. (If it’s a garden plant or pet\, please mark it as “captive/cultivated” in the app; these will not count towards the City Nature Challenge).\nShare! Upload your observations to the iNaturalist app during the challenge period (April 24 – April 27). Observations within Central Illinois’ participating counties’ boundaries will automatically count towards our area’s total.\nHelp Identify: As the data is collected and submitted\, you can help identify the species observed by other participants to build a better understanding of local biodiversity\n\nWhy Participate?\n\nLearn: Discover the amazing organisms you share your city with.\nContribute to Science: Your observations provide valuable data for conservation efforts and scientific research.\nCompete: Help Central Illinois rise on the global leaderboards for the most observations\, species\, and participants!\n\nFor more information and local events\, email us at cicnc2026@gmail.com or the visit official website at citynaturechallenge.org.
URL:https://ecologyactioncenter.org/event/central-illinois-for-the-2026-city-nature-challenge/
END:VEVENT
END:VCALENDAR