BEGIN:VCALENDAR
VERSION:2.0
PRODID:-// - ECPv6.15.20//NONSGML v1.0//EN
CALSCALE:GREGORIAN
METHOD:PUBLISH
X-ORIGINAL-URL:https://ecologyactioncenter.org
X-WR-CALDESC:Events for 
REFRESH-INTERVAL;VALUE=DURATION:PT1H
X-Robots-Tag:noindex
X-PUBLISHED-TTL:PT1H
BEGIN:VTIMEZONE
TZID:America/Chicago
BEGIN:DAYLIGHT
TZOFFSETFROM:-0600
TZOFFSETTO:-0500
TZNAME:CDT
DTSTART:20250309T080000
END:DAYLIGHT
BEGIN:STANDARD
TZOFFSETFROM:-0500
TZOFFSETTO:-0600
TZNAME:CST
DTSTART:20251102T070000
END:STANDARD
BEGIN:DAYLIGHT
TZOFFSETFROM:-0600
TZOFFSETTO:-0500
TZNAME:CDT
DTSTART:20260308T080000
END:DAYLIGHT
BEGIN:STANDARD
TZOFFSETFROM:-0500
TZOFFSETTO:-0600
TZNAME:CST
DTSTART:20261101T070000
END:STANDARD
BEGIN:DAYLIGHT
TZOFFSETFROM:-0600
TZOFFSETTO:-0500
TZNAME:CDT
DTSTART:20270314T080000
END:DAYLIGHT
BEGIN:STANDARD
TZOFFSETFROM:-0500
TZOFFSETTO:-0600
TZNAME:CST
DTSTART:20271107T070000
END:STANDARD
END:VTIMEZONE
BEGIN:VEVENT
DTSTART;TZID=America/Chicago:20260314T130000
DTEND;TZID=America/Chicago:20260314T150000
DTSTAMP:20260422T172114
CREATED:20241015T213825Z
LAST-MODIFIED:20260224T225844Z
UID:10000717-1773493200-1773500400@ecologyactioncenter.org
SUMMARY:mCLEAN Up Crew Workday
DESCRIPTION:Our local environment needs your help! Join the Ecology Action Center in picking up trash around McLean County for our March mCLEAN Up Crew Workday. Volunteers will use trash grabbers with safety equipment like high visibility vests and gloves to pick up litter around designated areas. Participants must be 18 years or older or 12-17 years old and accompanied by a guardian. Volunteers must be able to spend three hours on their feet and carry a weight of 10-15 pounds. A confirmation email and location information will be communicated 1-2 days prior to the workday. Please register each participant individually.
URL:https://ecologyactioncenter.org/event/mclean-up-crew/
LOCATION:IL
CATEGORIES:Trash Clean Up,volunteer
END:VEVENT
END:VCALENDAR