BEGIN:VCALENDAR
VERSION:2.0
PRODID:-// - ECPv6.15.20//NONSGML v1.0//EN
CALSCALE:GREGORIAN
METHOD:PUBLISH
X-ORIGINAL-URL:https://ecologyactioncenter.org
X-WR-CALDESC:Events for 
REFRESH-INTERVAL;VALUE=DURATION:PT1H
X-Robots-Tag:noindex
X-PUBLISHED-TTL:PT1H
BEGIN:VTIMEZONE
TZID:America/Chicago
BEGIN:DAYLIGHT
TZOFFSETFROM:-0600
TZOFFSETTO:-0500
TZNAME:CDT
DTSTART:20240310T080000
END:DAYLIGHT
BEGIN:STANDARD
TZOFFSETFROM:-0500
TZOFFSETTO:-0600
TZNAME:CST
DTSTART:20241103T070000
END:STANDARD
BEGIN:DAYLIGHT
TZOFFSETFROM:-0600
TZOFFSETTO:-0500
TZNAME:CDT
DTSTART:20250309T080000
END:DAYLIGHT
BEGIN:STANDARD
TZOFFSETFROM:-0500
TZOFFSETTO:-0600
TZNAME:CST
DTSTART:20251102T070000
END:STANDARD
BEGIN:DAYLIGHT
TZOFFSETFROM:-0600
TZOFFSETTO:-0500
TZNAME:CDT
DTSTART:20260308T080000
END:DAYLIGHT
BEGIN:STANDARD
TZOFFSETFROM:-0500
TZOFFSETTO:-0600
TZNAME:CST
DTSTART:20261101T070000
END:STANDARD
END:VTIMEZONE
BEGIN:VEVENT
DTSTART;VALUE=DATE:20250422
DTEND;VALUE=DATE:20250423
DTSTAMP:20260422T110601
CREATED:20250401T144633Z
LAST-MODIFIED:20250421T141421Z
UID:10000769-1745280000-1745366399@ecologyactioncenter.org
SUMMARY:Earth Day Tree Planting: April 22\, 2025 (Multiple Shifts) Comlara Park
DESCRIPTION:Help the Ecology Action Center plant small (1-3 ft tall) bareroot seedling trees to improve air quality\, sequester carbon\, increase wildlife habitat\, and more! \nVolunteers must be 18 or older\, or alternatively 14 or older if accompanied by a parent or guardian. Tools and heavy equipment will be in use and all volunteers must be able to safely use hand tools\, stay on their feet for 3 hours at a time and lift a moderate weight (~15 pounds). \nPlease dress appropriately for weather conditions and working outside. Long pants and closed-toed shoes or boots are required; no sandals or flip-flops. More information as well as a confirmation email will be communicated to volunteers prior to the workday and NOT at sign up. \nSelect one (or both!) of the shifts below: \nMorning 9-11:30am shift \nAfternoon 12:30-3pm shift \n*Please note that registration is required for this event. Registration has ended as we have met max capacity. For questions\, please contact 309-454-3169.*
URL:https://ecologyactioncenter.org/event/earth-day-tree-planting-april-22-2025-multiple-shifts-comlara-park/
CATEGORIES:Tree Corps,volunteer
END:VEVENT
END:VCALENDAR