BEGIN:VCALENDAR
VERSION:2.0
PRODID:-// - ECPv6.15.20//NONSGML v1.0//EN
CALSCALE:GREGORIAN
METHOD:PUBLISH
X-ORIGINAL-URL:https://ecologyactioncenter.org
X-WR-CALDESC:Events for 
REFRESH-INTERVAL;VALUE=DURATION:PT1H
X-Robots-Tag:noindex
X-PUBLISHED-TTL:PT1H
BEGIN:VTIMEZONE
TZID:America/Chicago
BEGIN:DAYLIGHT
TZOFFSETFROM:-0600
TZOFFSETTO:-0500
TZNAME:CDT
DTSTART:20240310T080000
END:DAYLIGHT
BEGIN:STANDARD
TZOFFSETFROM:-0500
TZOFFSETTO:-0600
TZNAME:CST
DTSTART:20241103T070000
END:STANDARD
BEGIN:DAYLIGHT
TZOFFSETFROM:-0600
TZOFFSETTO:-0500
TZNAME:CDT
DTSTART:20250309T080000
END:DAYLIGHT
BEGIN:STANDARD
TZOFFSETFROM:-0500
TZOFFSETTO:-0600
TZNAME:CST
DTSTART:20251102T070000
END:STANDARD
BEGIN:DAYLIGHT
TZOFFSETFROM:-0600
TZOFFSETTO:-0500
TZNAME:CDT
DTSTART:20260308T080000
END:DAYLIGHT
BEGIN:STANDARD
TZOFFSETFROM:-0500
TZOFFSETTO:-0600
TZNAME:CST
DTSTART:20261101T070000
END:STANDARD
END:VTIMEZONE
BEGIN:VEVENT
DTSTART;VALUE=DATE:20250427
DTEND;VALUE=DATE:20250428
DTSTAMP:20260422T093519
CREATED:20250416T193833Z
LAST-MODIFIED:20250424T181629Z
UID:10000776-1745712000-1745798399@ecologyactioncenter.org
SUMMARY:Tree Planting Workday: April 27\, 2025 Lake Bloomington
DESCRIPTION:Help the Ecology Action Center plant small (1-3 ft tall) bareroot seedling trees to improve air quality\, sequester carbon\, increase wildlife habitat\, and more! \nVolunteers must be 18 or older\, or alternatively 14 or older if accompanied by a parent or guardian. Tools and heavy equipment will be in use and all volunteers must be able to safely use hand tools\, stay on their feet for 3 hours at a time and lift a moderate weight (~15 pounds). \nPlease dress appropriately for weather conditions and working outside. Long pants and closed-toed shoes or boots are required; no sandals or flip-flops. More information as well as a confirmation email will be communicated to volunteers prior to the workday and NOT at sign up. \n**Please note that registration closed for this event.*
URL:https://ecologyactioncenter.org/event/tree-planting-workday-april-27-2025-multiple-shifts-comlara-park/
CATEGORIES:Tree Corps,volunteer
END:VEVENT
BEGIN:VEVENT
DTSTART;TZID=America/Chicago:20250426T103000
DTEND;TZID=America/Chicago:20250426T140000
DTSTAMP:20260422T093519
CREATED:20250211T162804Z
LAST-MODIFIED:20250211T162804Z
UID:10000733-1745663400-1745676000@ecologyactioncenter.org
SUMMARY:3rd Annual Rivian 5k to Support EAC and Friends of the Trail
DESCRIPTION:Rivian is excited to host the third annual 5k at Heartland Community College to benefit the Ecology Action Center and Friends of the Constitution Trail. ​​​​​​​​​​​​​​At Rivian\, Forever Starts Now.  And while the products are designed to promote adventure forever\, Rivian is dedicated to making a difference in the communities where they live and work. The Rivian Manufacturing team supports volunteerism as a way for teams to give back\, get inspired\, stay involved and make a positive impact today—both in the work done and the causes supported. Normal Pride extends beyond the walls of our facilities and into the communities where Rivian employees live and work It’s a partnership and Rivian is excited to see the communities grow\, thrive and be part of the adventure. \nReceive a Rivian Commemorative Pin and ornament upon completion of the race along with a plant from Reinhart Landscaping. Rivian 5K Shirts are available for purchase at the race. After the race; enjoy exploring some Rivian vehicles and light refreshments! There will be an after party with additional refreshments from Healthy in a Hurry for purchase at White Oak Brewery beginning at 1pm. A portion of proceeds from White Oak Brewery will benefit the two non profits. \nWe hope you will join us as we treat the community to a timed fun run. Thank you to Fleet Feet and White Oak Brewery for helping sponsor our race. \nThis event is taking place to support the Ecology Action Center and Friends of the Constitution Trail. \nSign up here: https://runsignup.com/Race/IL/Normal/Rivian5k
URL:https://ecologyactioncenter.org/event/3rd-annual-rivian-5k-to-support-eac-and-friends-of-the-trail/
LOCATION:Heartland Community College\, 1500 W. Raab Road\, Normal\, IL\, 61761\, United States
GEO:40.5343354;-89.014746
X-APPLE-STRUCTURED-LOCATION;VALUE=URI;X-ADDRESS=Heartland Community College 1500 W. Raab Road Normal IL 61761 United States;X-APPLE-RADIUS=500;X-TITLE=1500 W. Raab Road:geo:-89.014746,40.5343354
END:VEVENT
BEGIN:VEVENT
DTSTART;TZID=America/Chicago:20250426T090000
DTEND;TZID=America/Chicago:20250426T120000
DTSTAMP:20260422T093519
CREATED:20250310T161905Z
LAST-MODIFIED:20250424T181559Z
UID:10000759-1745658000-1745668800@ecologyactioncenter.org
SUMMARY:Earth Day Constitution Trail and Sugar Creek Clean Up: April 26\, 2025 (9-12pm)
DESCRIPTION:Celebrate Earth Day with the Ecology Action Center! Volunteer to help out at our annual Constitution Trail and Sugar Creek clean-up event on Saturday\, April 26\, 2025 from 9 a.m. to noon! \nThe EAC and our community partners Friends of the Constitution Trail need help cleaning up the trail from the Chateau west to Audubon Gardens. \nA parent or guardian must accompany minors. Dress appropriately for the weather and bring your own work gloves if possible. Trash bags and trash grabbers will be provided.  Pre-registration REQUIRED for all individuals (please sign up family members individually) – sign up below. \nIf you are not available to join us for this workday\, but still want to help\, you can create your own clean-up crew with your family pod or sign up for one of our mCLEAN Up Crew Workdays.  \n*Please note that registration closed for this event.*
URL:https://ecologyactioncenter.org/event/earth-day-constitution-trail-and-sugar-creek-clean-up-april-26-2025-9-12pm/
LOCATION:The Chateau\, 1621 Jumer Dr\, Bloomington\, IL\, 61704\, United States
CATEGORIES:Trash Clean Up,volunteer
GEO:40.5060779;-88.9513571
X-APPLE-STRUCTURED-LOCATION;VALUE=URI;X-ADDRESS=The Chateau 1621 Jumer Dr Bloomington IL 61704 United States;X-APPLE-RADIUS=500;X-TITLE=1621 Jumer Dr:geo:-88.9513571,40.5060779
END:VEVENT
BEGIN:VEVENT
DTSTART;TZID=America/Chicago:20250426T080000
DTEND;TZID=America/Chicago:20250426T093000
DTSTAMP:20260422T093519
CREATED:20250417T151327Z
LAST-MODIFIED:20250417T151424Z
UID:10000774-1745654400-1745659800@ecologyactioncenter.org
SUMMARY:Spring Migration Bird Walk
DESCRIPTION:Spring migration is upon us\, so there is no better time to join Grand Prairie Bird Alliance for a bird walk at Ewing Park. Leaders this week are Michael Retter and Bill and Mercy Davison. Bird walks are appropriate for all ages and all skill levels. (Seriously\, there is no pressure to know anything about birds! We can give you some tips\, or you can just walk along with us and appreciate us appreciating the birds.) We even have 5 pairs of loaner binoculars! If you have questions about accessibility\, please email us at grandprairiebirdalliance@gmail.com.
URL:https://ecologyactioncenter.org/event/spring-migration-bird-walk-7/
LOCATION:Ewing Park II\, 1001 Ethell Parkway\, Bloomington\, 61701
ORGANIZER;CN="Grand Prairie Bird Alliance":MAILTO:grandprairiebirdalliance@gmail.com
END:VEVENT
BEGIN:VEVENT
DTSTART;TZID=America/Chicago:20250425T130000
DTEND;TZID=America/Chicago:20250425T160000
DTSTAMP:20260422T093519
CREATED:20250416T194242Z
LAST-MODIFIED:20250424T181520Z
UID:10000777-1745586000-1745596800@ecologyactioncenter.org
SUMMARY:Tree Re-Potting Workday - April 25\, 2025 (1-4pm)
DESCRIPTION:Help the Ecology Action Center harvest and re-pot trees that are planted at our nursery on West Jefferson street so that they can be planted at other sites.  Volunteers must be 18 years old or older or alternately 14 years or older and accompanied by a parent or legal guardian. Tools and heavy equipment might be in use and all volunteers must be able to safely use hand tools\, stay on their feet for 3 hours at a time and lift a moderate weight (~15 pounds). Please dress appropriately for weather conditions and working outside. Closed-toed shoes or boots are required – no sandals or flip-flops. More information as well as a confirmation email will be communicated to volunteers prior to the workday and NOT at sign up. \n*Please note that registration closed for this event.* \n \n 
URL:https://ecologyactioncenter.org/event/tree-re-potting-workday-april-25-2025-1-4pm/
CATEGORIES:Tree Corps,volunteer
END:VEVENT
BEGIN:VEVENT
DTSTART;TZID=America/Chicago:20250422T090000
DTEND;TZID=America/Chicago:20250422T153000
DTSTAMP:20260422T093519
CREATED:20250214T151123Z
LAST-MODIFIED:20250214T151123Z
UID:10000736-1745312400-1745335800@ecologyactioncenter.org
SUMMARY:Earth Day Eco-Explorers
DESCRIPTION:Celebrate Earth Day with the University of Illinois Extension and partners in an exciting day full of hands-on workshops designed to inspire young minds and foster a love for our planet! Children ages 8-13 are invited to join us for a series of engaging activities focused on sustainability\, conservation\, and environmental creativity. Hosted by the Parklands Foundation\, Ecology Action Center\, University of Illinois McLean County Extension\, McLean County Ag in the Classroom\, and Illinois Art Station\, this event is sure to be an unforgettable experience.\nWorkshop Offerings Include:\n\nSave the Splash: Water Adventure – Dive into the wonders of water\, one of our most important and abundant resources.\nTrashion Fashion – Get inspired by Sydney-based artist Marina DeBris and make it work. Learn how to upcycle materials into unique wearables\, reduce waste\, and promote sustainability in the fashion industry.\nWonderful Wind Power – Explore the power of the wind and learn how it can be used to create energy in this hands-on workshop! Youth will get the chance to build their very own wind-powered device\, learning the basics of renewable energy and how wind turbines work.\nSquirm and Learn: Vermicomposting – Do you love playing in the dirt and all things bugs? Then come learn about everyone’s favorite underground creature\, the worm! Learn about what makes a good habitat for worms\, how worms are different from humans\, and how worms help to turn food scraps into nutrients for plants. Students will get the chance to not only learn but put it into action as they help harvest compost from the worm bin and set up their new habitat.\nFeathers\, Fur\, Scales\, and Slime: Animal Exteriors – Animals don’t get to choose what covers their skin. Nature has decided. Their colors\, patterns\, and textures give them safety as well as style! Learn what animals wear and how that helps them survive.\n\nEach workshop is designed to be fun\, interactive\, and educational\, offering kids the chance to get their hands dirty and their imaginations flowing while learning how they can make a positive impact on the environment. \nEach one-hour session is $5.00 per family. \nThere is a 30-minute lunch break. Participants attending a 1–2 PM session should bring their own lunch and stay during that time. \n\n\nSign up at: https://registration.extension.illinois.edu/start/2025-earth-day-eco-explorers
URL:https://ecologyactioncenter.org/event/earth-day-eco-explorers/
LOCATION:University of Illinois Extension – 1615 Commerce Drive\, 1615 Commerce Drive\, Bloomington\, IL\, 61704\, United States
ORGANIZER;CN="University of Illinois Extension":MAILTO:wdavison@illinois.edu
GEO:40.455971;-88.975673
X-APPLE-STRUCTURED-LOCATION;VALUE=URI;X-ADDRESS=University of Illinois Extension – 1615 Commerce Drive 1615 Commerce Drive Bloomington IL 61704 United States;X-APPLE-RADIUS=500;X-TITLE=1615 Commerce Drive:geo:-88.975673,40.455971
END:VEVENT
BEGIN:VEVENT
DTSTART;TZID=America/Chicago:20250422T080000
DTEND;TZID=America/Chicago:20250422T100000
DTSTAMP:20260422T093519
CREATED:20250310T151715Z
LAST-MODIFIED:20250310T151715Z
UID:10000750-1745308800-1745316000@ecologyactioncenter.org
SUMMARY:ISU Earth Day Breakfast
DESCRIPTION:The Earth Day Breakfast occurring on April 22 at 8:00am will include a sustainable selection of local foods\, vegan options\, Fair Trade coffee and teas and feature keynote speaker: Zahra Biabani. \nAuthor and Climate Activist\, Zahra Biabani\, is a powerful voice for positive change. Her book\, Climate Optimism: Celebrating Systemic Change Around the World celebrates the encouraging environmental trends and showcases communities pioneering unique solutions to the climate crisis. By focusing on progress\, Zahra reminds us that optimism can fuel action – and inspire us to keep pushing for a more sustainable future. This timely conversation will inspire and uplift during challenging times. \nTickets can be purchased at sustainability.ilstu.edu. This event is $10 for ISU students and $25 for ISU Faculty\, Staff\, and General Public. \n  \nThis event is sponsored by the ISU Office of Sustainability\, and co-sponsored by the College of Business\, the Department of Health Sciences\, Department of Geography\, Geology\, & the Environment\, and Leadership\, Education\, & Development (LEAD).
URL:https://ecologyactioncenter.org/event/isu-earth-day-breakfast-2/
LOCATION:Illinois State University Brown Ballroom (Bone Student Center)\, 200 N. University\, Normal\, 61671
ATTACH;FMTTYPE=image/png:https://ecologyactioncenter.org/wp-content/uploads/2025/03/EDB25-Calendar-Socials.png
END:VEVENT
BEGIN:VEVENT
DTSTART;VALUE=DATE:20250422
DTEND;VALUE=DATE:20250423
DTSTAMP:20260422T093519
CREATED:20250401T144633Z
LAST-MODIFIED:20250421T141421Z
UID:10000769-1745280000-1745366399@ecologyactioncenter.org
SUMMARY:Earth Day Tree Planting: April 22\, 2025 (Multiple Shifts) Comlara Park
DESCRIPTION:Help the Ecology Action Center plant small (1-3 ft tall) bareroot seedling trees to improve air quality\, sequester carbon\, increase wildlife habitat\, and more! \nVolunteers must be 18 or older\, or alternatively 14 or older if accompanied by a parent or guardian. Tools and heavy equipment will be in use and all volunteers must be able to safely use hand tools\, stay on their feet for 3 hours at a time and lift a moderate weight (~15 pounds). \nPlease dress appropriately for weather conditions and working outside. Long pants and closed-toed shoes or boots are required; no sandals or flip-flops. More information as well as a confirmation email will be communicated to volunteers prior to the workday and NOT at sign up. \nSelect one (or both!) of the shifts below: \nMorning 9-11:30am shift \nAfternoon 12:30-3pm shift \n*Please note that registration is required for this event. Registration has ended as we have met max capacity. For questions\, please contact 309-454-3169.*
URL:https://ecologyactioncenter.org/event/earth-day-tree-planting-april-22-2025-multiple-shifts-comlara-park/
CATEGORIES:Tree Corps,volunteer
END:VEVENT
END:VCALENDAR