BEGIN:VCALENDAR
VERSION:2.0
PRODID:-// - ECPv6.15.20//NONSGML v1.0//EN
CALSCALE:GREGORIAN
METHOD:PUBLISH
X-ORIGINAL-URL:https://ecologyactioncenter.org
X-WR-CALDESC:Events for 
REFRESH-INTERVAL;VALUE=DURATION:PT1H
X-Robots-Tag:noindex
X-PUBLISHED-TTL:PT1H
BEGIN:VTIMEZONE
TZID:America/Chicago
BEGIN:DAYLIGHT
TZOFFSETFROM:-0600
TZOFFSETTO:-0500
TZNAME:CDT
DTSTART:20250309T080000
END:DAYLIGHT
BEGIN:STANDARD
TZOFFSETFROM:-0500
TZOFFSETTO:-0600
TZNAME:CST
DTSTART:20251102T070000
END:STANDARD
BEGIN:DAYLIGHT
TZOFFSETFROM:-0600
TZOFFSETTO:-0500
TZNAME:CDT
DTSTART:20260308T080000
END:DAYLIGHT
BEGIN:STANDARD
TZOFFSETFROM:-0500
TZOFFSETTO:-0600
TZNAME:CST
DTSTART:20261101T070000
END:STANDARD
BEGIN:DAYLIGHT
TZOFFSETFROM:-0600
TZOFFSETTO:-0500
TZNAME:CDT
DTSTART:20270314T080000
END:DAYLIGHT
BEGIN:STANDARD
TZOFFSETFROM:-0500
TZOFFSETTO:-0600
TZNAME:CST
DTSTART:20271107T070000
END:STANDARD
END:VTIMEZONE
BEGIN:VEVENT
DTSTART;VALUE=DATE:20260306
DTEND;VALUE=DATE:20260307
DTSTAMP:20260421T202543
CREATED:20260220T170843Z
LAST-MODIFIED:20260305T202054Z
UID:10000907-1772755200-1772841599@ecologyactioncenter.org
SUMMARY:Tree Potting Workday - Friday March 6\, 2026
DESCRIPTION:Tree Corps time already!? You heard that right! We’re taking advantage of the warm weather and kicking off the winter blues with a tree potting workday! Morning and afternoon shifts available. \n*Please note that sign up is closed at this time* \nHelp the Ecology Action Center harvest and pot trees that are planted at our nursery on West Jefferson street so that they can be planted at other sites.  Volunteers must be 18 years old or older or alternately 14 years or older and accompanied by a parent or legal guardian. Tools and heavy equipment might be in use and all volunteers must be able to safely use hand tools\, stay on their feet for 3 hours at a time and lift a moderate weight (~15 pounds). Please dress appropriately for weather conditions and working outside. Closed-toed shoes or boots are required – no sandals or flip-flops. More information as well as a confirmation email will be communicated to volunteers prior to the workday and NOT at sign up. \n \n 
URL:https://ecologyactioncenter.org/event/tree-potting-workday-friday-march-6-2026/
LOCATION:EAC Nursery\, Bloomington\, IL\, 61701
CATEGORIES:Tree Corps,volunteer
END:VEVENT
BEGIN:VEVENT
DTSTART;TZID=America/Chicago:20260307T080000
DTEND;TZID=America/Chicago:20260307T130000
DTSTAMP:20260421T202543
CREATED:20260121T202538Z
LAST-MODIFIED:20260121T202538Z
UID:10000891-1772870400-1772888400@ecologyactioncenter.org
SUMMARY:Home\, Lawn and Garden Day
DESCRIPTION:Make your garden thrive with educational workshops\, inspiring speakers\, and horticulture treasures from local businesses and organizations at the 24th Annual Home\, Lawn\, and Garden Day\, hosted by the University of Illinois Extension McLean County Master Gardeners. The event runs from 8 a.m. to 1 p.m. on Saturday\, March 7\, 2026\, at the Parke Conference Center in Bloomington. Registration is open through March 1—sign up early to reserve your spot! \nThe day features an engaging opening session\, two breakout workshops\, and a keynote presentation by Bob Streitmatter\, Director of Luthy Botanical Gardens in Peoria\, on Nature-Inspired Gardens. His talk explores how natural landscapes have shaped garden design—from Japanese and English traditions to the works of Jensen\, the Lurie Garden\, and the High Line—offering practical ideas for your own garden. \nThe $40 registration fee includes all sessions\, access to vendors and exhibitors\, and light refreshments. Don’t miss this opportunity to learn\, grow\, and connect with fellow gardening enthusiasts. Workshops fill quickly! \nLearn more and register at go.illinois.edu/HLGD. \nFor questions\, contact the Illinois Extension McLean County Office at 309 663 8306.
URL:https://ecologyactioncenter.org/event/home-lawn-and-garden-day/
END:VEVENT
BEGIN:VEVENT
DTSTART;TZID=America/Chicago:20260307T093000
DTEND;TZID=America/Chicago:20260307T120000
DTSTAMP:20260421T202543
CREATED:20260220T171347Z
LAST-MODIFIED:20260220T171347Z
UID:10000908-1772875800-1772884800@ecologyactioncenter.org
SUMMARY:Tree Potting Workday - Saturday March 7\, 2026
DESCRIPTION:Tree Corps time already!? You heard that right! We’re taking advantage of the warm weather and kicking off the winter blues with a tree potting workday! This will be a morning shift 9:30am-12pm. \nSign up at this link: https://ecologyactioncenter.app.neoncrm.com/forms/volunteer?opportunityId=491 \nHelp the Ecology Action Center harvest and pot trees that are planted at our nursery on West Jefferson street so that they can be planted at other sites.  Volunteers must be 18 years old or older or alternately 14 years or older and accompanied by a parent or legal guardian. Tools and heavy equipment might be in use and all volunteers must be able to safely use hand tools\, stay on their feet for 3 hours at a time and lift a moderate weight (~15 pounds). Please dress appropriately for weather conditions and working outside. Closed-toed shoes or boots are required – no sandals or flip-flops. More information as well as a confirmation email will be communicated to volunteers prior to the workday and NOT at sign up. \n \n 
URL:https://ecologyactioncenter.org/event/tree-potting-workday-saturday-march-7-2026/
LOCATION:EAC Nursery\, Bloomington\, IL\, 61701
CATEGORIES:Tree Corps,volunteer
END:VEVENT
BEGIN:VEVENT
DTSTART;TZID=America/Chicago:20260309T190000
DTEND;TZID=America/Chicago:20260309T203000
DTSTAMP:20260421T202543
CREATED:20260225T220400Z
LAST-MODIFIED:20260225T220437Z
UID:10000909-1773082800-1773088200@ecologyactioncenter.org
SUMMARY:Native Orchids
DESCRIPTION:Join Dr. Jan Gehring as she introduces us to the wonderful world of Orchids on March 9 starting at 7:00pm.This program will also be livestreamed. The link to join the livestream is https://www.youtube.com/live/vk0j9kEL_y0. \nShe will begin by highlighting their global distribution and species diversity. This will be followed by a discussion of the characteristics of orchids\, including habit\, growth forms\, vegetative traits\, flowers\, and seeds. The presentation will conclude by highlighting the species of orchids native to Central Illinois and their habitats. \nPresenter Bio: \nDr. Jan Gehring grew up on a farm in East-Central Nebraska and began her education in a one-room schoolhouse. She received her Bachelor’s and Master’s degrees in Biology from the University of Nebraska at Omaha. Her Master’s research was on the impacts of red cedar spread on native prairie vegetation . She went on to earn her Ph.D. at the University of Colorado in 1990 where her research was on sexual dimorphism in white campion (Silene latifolia). Following that\, she completed a post-doc at Indiana University from 1993 to 1996. The majority of her career was spent in Peoria where she served as Assistant and Associate Professor of Biology at Bradley University from 1996 to 2020. At Bradley\, she taught courses in evolution\, ecology and plant science. In retirement Dr. Gehring loves traveling to natural areas where she can’t help botanizing everywhere she goes.
URL:https://ecologyactioncenter.org/event/native-orchids/
LOCATION:805 S Cottage Ave Normal IL\, 805 S Cottage Ave\, Normal
ORGANIZER;CN="Illinois Prairie Chapter of Wild Ones":MAILTO:ilprairiewo@gmail.com
END:VEVENT
BEGIN:VEVENT
DTSTART;TZID=America/Chicago:20260312T173000
DTEND;TZID=America/Chicago:20260312T183000
DTSTAMP:20260421T202543
CREATED:20260213T184550Z
LAST-MODIFIED:20260213T225748Z
UID:10000895-1773336600-1773340200@ecologyactioncenter.org
SUMMARY:Rain Barrel Workshop: Thursday\, March 12\, 2026 (5:30-6:30pm)
DESCRIPTION:The EAC’s rain barrel workshops teach attendees about the importance of rain water catchment in preventing storm water runoff pollution! Attendees will learn how to locate\, install\, and set up their rain barrel. We’ll also provide tips to transition downspouts for rain barrel usage\, and information on proper winter storage. Workshops cost $60.00 for general public and $50.00 for EAC Members. \nThroughout our workshop there will be ample opportunity for Q&A with EAC staff\, who can answer questions about beneficial environmental impacts as well as practical everyday use of rain barrels. \nBy the end of the workshop\, participants will have a sound understanding of the individual and community benefits of having a rain barrel\, and can be confident about next steps to install\, use and care for one. Participants will leave with their very own rain barrel made from a repurposed food-grade 55 gallon drum. \n \n*Workshop registration closes 3 days before the workshop start date.* \nThe Ecology Action Center will make reasonable accommodations for participation in public programs and services. To request accommodation\, please call 309-454-3169×11 or go to ecologyactioncenter.org/accommodation. Please provide two weeks advance notice if possible.
URL:https://ecologyactioncenter.org/event/rain-barrel-workshop-thursday-march-12-2026-530pm/
CATEGORIES:Rain Barrel Workshops,Workshops
END:VEVENT
BEGIN:VEVENT
DTSTART;VALUE=DATE:20260313
DTEND;VALUE=DATE:20260314
DTSTAMP:20260421T202543
CREATED:20260309T223229Z
LAST-MODIFIED:20260312T154421Z
UID:10000913-1773360000-1773446399@ecologyactioncenter.org
SUMMARY:CANCELLED: Tree Prep Workday: March 13\, 2026 (multiple shifts)
DESCRIPTION:Help the Ecology Action Center prepare small (1-3′ tall) bareroot seedling trees for planting. These trees will help to improve air quality\, sequester carbon\, increase wildlife habitat\, and more! Volunteers must be 18 years old or older or alternately 14 years or older and accompanied by a parent or legal guardian. Tools and heavy equipment might be in use and all volunteers must be able to safely use hand tools\, stay on their feet for 3 hours at a time and lift a moderate weight (~15 pounds). Please dress appropriately for weather conditions and working outside. Closed-toed shoes or boots are required – no sandals or flip-flops. More information as well as a confirmation email will be communicated to volunteers prior to the workday and NOT at sign up. \nSelect one (or both!) of the shifts by using the button below! \n*This event has been cancelled*
URL:https://ecologyactioncenter.org/event/tree-prep-workday-march-13-2026-multiple-shifts/
CATEGORIES:Tree Corps,volunteer
END:VEVENT
BEGIN:VEVENT
DTSTART;TZID=America/Chicago:20260314T130000
DTEND;TZID=America/Chicago:20260314T150000
DTSTAMP:20260421T202543
CREATED:20241015T213825Z
LAST-MODIFIED:20260224T225844Z
UID:10000717-1773493200-1773500400@ecologyactioncenter.org
SUMMARY:mCLEAN Up Crew Workday
DESCRIPTION:Our local environment needs your help! Join the Ecology Action Center in picking up trash around McLean County for our March mCLEAN Up Crew Workday. Volunteers will use trash grabbers with safety equipment like high visibility vests and gloves to pick up litter around designated areas. Participants must be 18 years or older or 12-17 years old and accompanied by a guardian. Volunteers must be able to spend three hours on their feet and carry a weight of 10-15 pounds. A confirmation email and location information will be communicated 1-2 days prior to the workday. Please register each participant individually.
URL:https://ecologyactioncenter.org/event/mclean-up-crew/
CATEGORIES:Trash Clean Up,volunteer
END:VEVENT
BEGIN:VEVENT
DTSTART;TZID=America/Chicago:20260316T180000
DTEND;TZID=America/Chicago:20260316T193000
DTSTAMP:20260421T202543
CREATED:20260204T174542Z
LAST-MODIFIED:20260204T174622Z
UID:10000896-1773684000-1773689400@ecologyactioncenter.org
SUMMARY:Normal Public Library Seed Swap
DESCRIPTION:Are you interested in putting in a garden this spring? Get ready with an opportunity to exchange seeds at a seed swap on March 16 at Normal Public Library from 6:00-7:30pm. Network with other growing-enthusiasts and dream of what’s possible this growing season. Bring your seeds and check out a full seed library! \nThe seed swap will be followed by educational programming from the U of I Extension Office focusing on vegetable seed starting. \nRegistration is required and space is limited. Register at https://www.normalpl.org/event/npl-seed-swap-42437. Registration opens at 9:00am on March 2.
URL:https://ecologyactioncenter.org/event/normal-public-library-seed-swap/
LOCATION:Normal Public Library\, 206 West College Avenue\, Normal\, IL\, 61761\, United States
GEO:40.5106299;-88.9864996
X-APPLE-STRUCTURED-LOCATION;VALUE=URI;X-ADDRESS=Normal Public Library 206 West College Avenue Normal IL 61761 United States;X-APPLE-RADIUS=500;X-TITLE=206 West College Avenue:geo:-88.9864996,40.5106299
END:VEVENT
BEGIN:VEVENT
DTSTART;TZID=America/Chicago:20260318T190000
DTEND;TZID=America/Chicago:20260318T210000
DTSTAMP:20260421T202543
CREATED:20260307T172518Z
LAST-MODIFIED:20260307T172518Z
UID:10000911-1773860400-1773867600@ecologyactioncenter.org
SUMMARY:2026 Winter Bike Movie 'Bike Vessel'
DESCRIPTION:The Town of Normal is very excited to be showing Bike Vessel as the 2026 “winter bike movie” on Wednesday\, March 18 at 7 p.m. at the Normal Theater. (We’ve hosted an annual bike movie for many years – always a great time!) This movie has a local twist\, featuring a father-and-son duo who ride Route 66 from St. Louis to Chicago in an effort to improve the father’s health. Here’s what they have to say: \nOur main goal is to educate the Black community on prevalent health issues. It is important to us that we not only showcase what an unhealthy lifestyle can lead to\, but also provide a pathway forward and show what types of adjustments can be made to live a lasting\, healthy life. We intend to make Bike Vessel an easily accessible film\, [which is why it is being screened for free]. \n We truly feel like Bike Vessel the film is really the Trojan Horse for the bigger project we have planned: A cross-country tour that celebrates healthy living and a love for cycling. Our campaign will include partnering with health organizations to host screenings and produce literature that people can take after seeing the film. We want the community to leave our events with a greater sense of love for their bodies\, love for their health\, and hopefully\, a new curiosity of exercise through cycling. \nEVEN BETTER\, the father will attend the event for a Q & A following the end of the movie.
URL:https://ecologyactioncenter.org/event/2026-winter-bike-movie-bike-vessel/
LOCATION:Normal Theater\, 209 W North Street\, Normal\, IL\, 61761\, United States
ORGANIZER;CN="Town of Normal":MAILTO:hbeal@normal.org
GEO:40.5094349;-88.9862955
X-APPLE-STRUCTURED-LOCATION;VALUE=URI;X-ADDRESS=Normal Theater 209 W North Street Normal IL 61761 United States;X-APPLE-RADIUS=500;X-TITLE=209 W North Street:geo:-88.9862955,40.5094349
END:VEVENT
BEGIN:VEVENT
DTSTART;TZID=America/Chicago:20260319T130000
DTEND;TZID=America/Chicago:20260319T153000
DTSTAMP:20260421T202543
CREATED:20260312T154631Z
LAST-MODIFIED:20260318T165228Z
UID:10000915-1773925200-1773934200@ecologyactioncenter.org
SUMMARY:Tree Prep Workday: March 19\, 2026 (1:00-3:30pm)
DESCRIPTION:Help the Ecology Action Center prepare small (1-3′ tall) bareroot seedling trees for planting. These trees will help to improve air quality\, sequester carbon\, increase wildlife habitat\, and more! Volunteers must be 18 years old or older or alternately 14 years or older and accompanied by a parent or legal guardian. Tools and heavy equipment might be in use and all volunteers must be able to safely use hand tools\, stay on their feet for 3 hours at a time and lift a moderate weight (~15 pounds). Please dress appropriately for weather conditions and working outside. Closed-toed shoes or boots are required – no sandals or flip-flops. More information as well as a confirmation email will be communicated to volunteers prior to the workday and NOT at sign up. \n  \n*Please note that registration is closed for this event*
URL:https://ecologyactioncenter.org/event/tree-prep-workday-march-19-2026-100-330pm/
CATEGORIES:Tree Corps,volunteer
END:VEVENT
BEGIN:VEVENT
DTSTART;VALUE=DATE:20260320
DTEND;VALUE=DATE:20260321
DTSTAMP:20260421T202543
CREATED:20260312T154534Z
LAST-MODIFIED:20260319T124658Z
UID:10000914-1773964800-1774051199@ecologyactioncenter.org
SUMMARY:Tree Prep Workday: March 20\, 2026 (Multiple Shifts)
DESCRIPTION:Help the Ecology Action Center prepare small (1-3′ tall) bareroot seedling trees for planting. These trees will help to improve air quality\, sequester carbon\, increase wildlife habitat\, and more! Volunteers must be 18 years old or older or alternately 14 years or older and accompanied by a parent or legal guardian. Tools and heavy equipment might be in use and all volunteers must be able to safely use hand tools\, stay on their feet for 3 hours at a time and lift a moderate weight (~15 pounds). Please dress appropriately for weather conditions and working outside. Closed-toed shoes or boots are required – no sandals or flip-flops. More information as well as a confirmation email will be communicated to volunteers prior to the workday and NOT at sign up. \nSelect one (or both!) of the shifts by using the button below! \n*Please not that registration is closed at this time*
URL:https://ecologyactioncenter.org/event/tree-prep-workday-march-20-2026-multiple-shifts/
CATEGORIES:Tree Corps,volunteer
END:VEVENT
BEGIN:VEVENT
DTSTART;VALUE=DATE:20260321
DTEND;VALUE=DATE:20260322
DTSTAMP:20260421T202543
CREATED:20260312T154804Z
LAST-MODIFIED:20260318T163924Z
UID:10000916-1774051200-1774137599@ecologyactioncenter.org
SUMMARY:Tree Corps Workday: March 21\, 2026 (Multiple Shifts)
DESCRIPTION:Help the Ecology Action Center by volunteering with Tree Corps. Trees planted as part of this program will help to improve air quality\, sequester carbon\, increase wildlife habitat\, and more! Volunteers must be 18 years old or older or alternately 14 years or older and accompanied by a parent or legal guardian. Tools and heavy equipment might be in use and all volunteers must be able to safely use hand tools\, stay on their feet for 3 hours at a time and lift a moderate weight (~15 pounds). Please dress appropriately for weather conditions and working outside. Closed-toed shoes or boots are required – no sandals or flip-flops. More information as well as a confirmation email will be communicated to volunteers prior to the workday and NOT at sign up. \nSelect one (or both!) of the shifts by using the button below! \n \n*Please note that the morning shift has been closed due to low signups.*
URL:https://ecologyactioncenter.org/event/tree-corps-workday-march-21-2026-multiple-shifts/
CATEGORIES:Tree Corps,volunteer
END:VEVENT
BEGIN:VEVENT
DTSTART;VALUE=DATE:20260327
DTEND;VALUE=DATE:20260328
DTSTAMP:20260421T202543
CREATED:20260316T203440Z
LAST-MODIFIED:20260326T140441Z
UID:10000918-1774569600-1774655999@ecologyactioncenter.org
SUMMARY:Tree Prep Workday: March 27\, 2026 (Multiple Shifts)
DESCRIPTION:Help the Ecology Action Center prepare small (1-3′ tall) bareroot seedling trees for planting. These trees will help to improve air quality\, sequester carbon\, increase wildlife habitat\, and more! Volunteers must be 18 years old or older or alternately 14 years or older and accompanied by a parent or legal guardian. Tools and heavy equipment might be in use and all volunteers must be able to safely use hand tools\, stay on their feet for 3 hours at a time and lift a moderate weight (~15 pounds). Please dress appropriately for weather conditions and working outside. Closed-toed shoes or boots are required – no sandals or flip-flops. More information as well as a confirmation email will be communicated to volunteers prior to the workday and NOT at sign up. \n*The workday sign up is currently closed. If interested in volunteering please call 309-454-3169 ext.13*
URL:https://ecologyactioncenter.org/event/tree-prep-workday-march-27-2026-multiple-shifts/
CATEGORIES:Tree Corps,volunteer
END:VEVENT
BEGIN:VEVENT
DTSTART;TZID=America/Chicago:20260327T100000
DTEND;TZID=America/Chicago:20260327T110000
DTSTAMP:20260421T202543
CREATED:20260313T193429Z
LAST-MODIFIED:20260313T193541Z
UID:10000917-1774605600-1774609200@ecologyactioncenter.org
SUMMARY:Super-Pooping Worm Spectacular!
DESCRIPTION:Join the Ecology Action Center to learn about worms\, and more importantly\, worm poop! During this program\, attendees will get to hear everything about worms’ role on our planet through Polly Owen’s picture book Darwin’s Super-Pooping Worm Spectacular. Once we have learned all there is to know about worms and their poop\, students will get to see these worms at work\, learn about how they differ from humans\, and maybe even feel them squirm on their hands.\n\nThis program is intended for children 5-11 years old who are accompanied by their caregivers. No registration required. All materials needed will be provided. Note: Weather permitting\, this program will take place on the library’s patio. In the case of inclement weather\, the program will take place in Children’s Program Rooms 1 &2.\n\nQuestions about this program can be emailed to Ms. Alysha at childrensstaff@bloomingtonlibrary.org.
URL:https://ecologyactioncenter.org/event/super-pooping-worm-spectacular/
LOCATION:Bloomington Public Library Community Room\, 205 E Olive Street\, Bloomington\, IL\, 61701\, United States
GEO:40.4768209;-88.9921371
X-APPLE-STRUCTURED-LOCATION;VALUE=URI;X-ADDRESS=Bloomington Public Library Community Room 205 E Olive Street Bloomington IL 61701 United States;X-APPLE-RADIUS=500;X-TITLE=205 E Olive Street:geo:-88.9921371,40.4768209
END:VEVENT
BEGIN:VEVENT
DTSTART;VALUE=DATE:20260328
DTEND;VALUE=DATE:20260329
DTSTAMP:20260421T202543
CREATED:20260316T203736Z
LAST-MODIFIED:20260326T140501Z
UID:10000920-1774656000-1774742399@ecologyactioncenter.org
SUMMARY:Tree Planting Workday: March 28\, 2026 (Multiple Shifts)
DESCRIPTION:Help the Ecology Action Center plant small (1-3 ft tall) bareroot seedling trees to improve air quality\, sequester carbon\, increase wildlife habitat\, and more! \nVolunteers must be 18 or older. Tools and heavy equipment will be in use and all volunteers must be able to safely use hand tools\, stay on their feet for 3 hours at a time and lift a moderate weight (~15 pounds). \nPlease dress appropriately for weather conditions and working outside. Long pants and closed-toed shoes or boots are required; no sandals or flip-flops. More information as well as a confirmation email will be communicated to volunteers prior to the workday and NOT at sign up. \n*The workday sign up is currently closed. If interested in volunteering please call 309-454-3169 ext.13*
URL:https://ecologyactioncenter.org/event/tree-planting-workday-march-28-2026-multiple-shifts/
CATEGORIES:Tree Corps,volunteer
END:VEVENT
BEGIN:VEVENT
DTSTART;VALUE=DATE:20260329
DTEND;VALUE=DATE:20260330
DTSTAMP:20260421T202543
CREATED:20260316T203825Z
LAST-MODIFIED:20260326T140521Z
UID:10000921-1774742400-1774828799@ecologyactioncenter.org
SUMMARY:Tree Planting Workday: March 29\, 2026 (Multiple Shifts)
DESCRIPTION:Help the Ecology Action Center plant small (1-3 ft tall) bareroot seedling trees to improve air quality\, sequester carbon\, increase wildlife habitat\, and more! \nVolunteers must be 18 or older. Tools and heavy equipment will be in use and all volunteers must be able to safely use hand tools\, stay on their feet for 3 hours at a time and lift a moderate weight (~15 pounds). \nPlease dress appropriately for weather conditions and working outside. Long pants and closed-toed shoes or boots are required; no sandals or flip-flops. More information as well as a confirmation email will be communicated to volunteers prior to the workday and NOT at sign up. \n*The workday sign up is currently closed. If interested in volunteering please call 309-454-3169 ext.13*
URL:https://ecologyactioncenter.org/event/tree-planting-workday-march-29-2026-multiple-shifts/
CATEGORIES:Tree Corps,volunteer
END:VEVENT
BEGIN:VEVENT
DTSTART;TZID=America/Chicago:20260330T190000
DTEND;TZID=America/Chicago:20260330T200000
DTSTAMP:20260421T202543
CREATED:20260120T152909Z
LAST-MODIFIED:20260120T152909Z
UID:10000889-1774897200-1774900800@ecologyactioncenter.org
SUMMARY:What the Whip-poor-will Teaches Us About Forest Management
DESCRIPTION:The Grand Prairie Bird Alliance and the Illinois Wesleyan University Biology Department will sponsor a public presentation about bird ecology on March 30\, 2026. The presentation will be held at 7 p.m. in room C101 at the Center for Natural Science (CNS)\, 201 Beecher Street\, Illinois Wesleyan University (IWU)\, Bloomington. Parking is available in the lot just north of the CNS on Beecher Street. \nDescription: Holly Coates\, a doctoral candidate at the University of Illinois\, will talk about “What the Whip-poor-will Teaches Us About Forest Management.” Eastern Whip-poor-wills are nocturnal\, ground-nesting birds with have a distinctive call that is sometimes repeated for hours on end by males during the breeding season. Unfortunately\, whip-poor-will populations have declined substantially over the past several years. As Midwestern forests become denser and more uniform\, they lose the open\, complex structure whip-poor-wills need to forage and move. Holly’s talk highlights how forest management influences whip-poor-will abundance and persistence\, showing that restoring structural diversity can help support this declining and iconic bird.
URL:https://ecologyactioncenter.org/event/what-the-whip-poor-will-teaches-us-about-forest-management/
LOCATION:Illinois Wesleyan University – Center for Natural Sciences C101\, 201 E. Beecher St.\, Bloomington\, IL\, 61701-7222\, United States
ORGANIZER;CN="Grand Prairie Bird Alliance":MAILTO:grandprairiebirdalliance@gmail.com
GEO:40.4917635;-88.9922751
X-APPLE-STRUCTURED-LOCATION;VALUE=URI;X-ADDRESS=Illinois Wesleyan University – Center for Natural Sciences C101 201 E. Beecher St. Bloomington IL 61701-7222 United States;X-APPLE-RADIUS=500;X-TITLE=201 E. Beecher St.:geo:-88.9922751,40.4917635
END:VEVENT
END:VCALENDAR