BEGIN:VCALENDAR
VERSION:2.0
PRODID:-// - ECPv6.15.20//NONSGML v1.0//EN
CALSCALE:GREGORIAN
METHOD:PUBLISH
X-ORIGINAL-URL:https://ecologyactioncenter.org
X-WR-CALDESC:Events for 
REFRESH-INTERVAL;VALUE=DURATION:PT1H
X-Robots-Tag:noindex
X-PUBLISHED-TTL:PT1H
BEGIN:VTIMEZONE
TZID:America/Chicago
BEGIN:DAYLIGHT
TZOFFSETFROM:-0600
TZOFFSETTO:-0500
TZNAME:CDT
DTSTART:20250309T080000
END:DAYLIGHT
BEGIN:STANDARD
TZOFFSETFROM:-0500
TZOFFSETTO:-0600
TZNAME:CST
DTSTART:20251102T070000
END:STANDARD
BEGIN:DAYLIGHT
TZOFFSETFROM:-0600
TZOFFSETTO:-0500
TZNAME:CDT
DTSTART:20260308T080000
END:DAYLIGHT
BEGIN:STANDARD
TZOFFSETFROM:-0500
TZOFFSETTO:-0600
TZNAME:CST
DTSTART:20261101T070000
END:STANDARD
BEGIN:DAYLIGHT
TZOFFSETFROM:-0600
TZOFFSETTO:-0500
TZNAME:CDT
DTSTART:20270314T080000
END:DAYLIGHT
BEGIN:STANDARD
TZOFFSETFROM:-0500
TZOFFSETTO:-0600
TZNAME:CST
DTSTART:20271107T070000
END:STANDARD
END:VTIMEZONE
BEGIN:VEVENT
DTSTART;VALUE=DATE:20260329
DTEND;VALUE=DATE:20260330
DTSTAMP:20260421T202545
CREATED:20260316T203825Z
LAST-MODIFIED:20260326T140521Z
UID:10000921-1774742400-1774828799@ecologyactioncenter.org
SUMMARY:Tree Planting Workday: March 29\, 2026 (Multiple Shifts)
DESCRIPTION:Help the Ecology Action Center plant small (1-3 ft tall) bareroot seedling trees to improve air quality\, sequester carbon\, increase wildlife habitat\, and more! \nVolunteers must be 18 or older. Tools and heavy equipment will be in use and all volunteers must be able to safely use hand tools\, stay on their feet for 3 hours at a time and lift a moderate weight (~15 pounds). \nPlease dress appropriately for weather conditions and working outside. Long pants and closed-toed shoes or boots are required; no sandals or flip-flops. More information as well as a confirmation email will be communicated to volunteers prior to the workday and NOT at sign up. \n*The workday sign up is currently closed. If interested in volunteering please call 309-454-3169 ext.13*
URL:https://ecologyactioncenter.org/event/tree-planting-workday-march-29-2026-multiple-shifts/
CATEGORIES:Tree Corps,volunteer
END:VEVENT
BEGIN:VEVENT
DTSTART;TZID=America/Chicago:20260330T190000
DTEND;TZID=America/Chicago:20260330T200000
DTSTAMP:20260421T202545
CREATED:20260120T152909Z
LAST-MODIFIED:20260120T152909Z
UID:10000889-1774897200-1774900800@ecologyactioncenter.org
SUMMARY:What the Whip-poor-will Teaches Us About Forest Management
DESCRIPTION:The Grand Prairie Bird Alliance and the Illinois Wesleyan University Biology Department will sponsor a public presentation about bird ecology on March 30\, 2026. The presentation will be held at 7 p.m. in room C101 at the Center for Natural Science (CNS)\, 201 Beecher Street\, Illinois Wesleyan University (IWU)\, Bloomington. Parking is available in the lot just north of the CNS on Beecher Street. \nDescription: Holly Coates\, a doctoral candidate at the University of Illinois\, will talk about “What the Whip-poor-will Teaches Us About Forest Management.” Eastern Whip-poor-wills are nocturnal\, ground-nesting birds with have a distinctive call that is sometimes repeated for hours on end by males during the breeding season. Unfortunately\, whip-poor-will populations have declined substantially over the past several years. As Midwestern forests become denser and more uniform\, they lose the open\, complex structure whip-poor-wills need to forage and move. Holly’s talk highlights how forest management influences whip-poor-will abundance and persistence\, showing that restoring structural diversity can help support this declining and iconic bird.
URL:https://ecologyactioncenter.org/event/what-the-whip-poor-will-teaches-us-about-forest-management/
LOCATION:Illinois Wesleyan University – Center for Natural Sciences C101\, 201 E. Beecher St.\, Bloomington\, IL\, 61701-7222\, United States
ORGANIZER;CN="Grand Prairie Bird Alliance":MAILTO:grandprairiebirdalliance@gmail.com
GEO:40.4917635;-88.9922751
X-APPLE-STRUCTURED-LOCATION;VALUE=URI;X-ADDRESS=Illinois Wesleyan University – Center for Natural Sciences C101 201 E. Beecher St. Bloomington IL 61701-7222 United States;X-APPLE-RADIUS=500;X-TITLE=201 E. Beecher St.:geo:-88.9922751,40.4917635
END:VEVENT
BEGIN:VEVENT
DTSTART;VALUE=DATE:20260403
DTEND;VALUE=DATE:20260404
DTSTAMP:20260421T202545
CREATED:20260316T203519Z
LAST-MODIFIED:20260402T155446Z
UID:10000919-1775174400-1775260799@ecologyactioncenter.org
SUMMARY:Tree Prep Workday: April 3\, 2026 (Multiple Shifts)
DESCRIPTION:Help the Ecology Action Center prepare small (1-3′ tall) bareroot seedling trees for planting. These trees will help to improve air quality\, sequester carbon\, increase wildlife habitat\, and more! Volunteers must be 18 years old or older or alternately 14 years or older and accompanied by a parent or legal guardian. Tools and heavy equipment might be in use and all volunteers must be able to safely use hand tools\, stay on their feet for 3 hours at a time and lift a moderate weight (~15 pounds). Please dress appropriately for weather conditions and working outside. Closed-toed shoes or boots are required – no sandals or flip-flops. More information as well as a confirmation email will be communicated to volunteers prior to the workday and NOT at sign up. \n  \n*Please note that the workday sign up is closed at this time. Please visit Tree-Corps.org to view other possible tree prep and planting opportunities*
URL:https://ecologyactioncenter.org/event/tree-prep-workday-april-3-2026-multiple-shifts/
CATEGORIES:Tree Corps,volunteer
END:VEVENT
BEGIN:VEVENT
DTSTART;VALUE=DATE:20260404
DTEND;VALUE=DATE:20260405
DTSTAMP:20260421T202545
CREATED:20260316T203902Z
LAST-MODIFIED:20260402T155517Z
UID:10000922-1775260800-1775347199@ecologyactioncenter.org
SUMMARY:Tree Planting Workday: April 4\, 2026 (Multiple Shifts)
DESCRIPTION:Help the Ecology Action Center plant small (1-3 ft tall) bareroot seedling trees to improve air quality\, sequester carbon\, increase wildlife habitat\, and more! \nVolunteers must be 18 or older. Tools and heavy equipment will be in use and all volunteers must be able to safely use hand tools\, stay on their feet for 3 hours at a time and lift a moderate weight (~15 pounds). \nPlease dress appropriately for weather conditions and working outside. Long pants and closed-toed shoes or boots are required; no sandals or flip-flops. More information as well as a confirmation email will be communicated to volunteers prior to the workday and NOT at sign up. \n*Please note that the workday sign up is closed at this time. Please visit Tree-Corps.org to view other possible tree prep and planting opportunities*
URL:https://ecologyactioncenter.org/event/tree-planting-workday-april-4-2026-multiple-shifts/
CATEGORIES:Tree Corps,volunteer
END:VEVENT
END:VCALENDAR