BEGIN:VCALENDAR
VERSION:2.0
PRODID:-// - ECPv6.15.20//NONSGML v1.0//EN
CALSCALE:GREGORIAN
METHOD:PUBLISH
X-ORIGINAL-URL:https://ecologyactioncenter.org
X-WR-CALDESC:Events for 
REFRESH-INTERVAL;VALUE=DURATION:PT1H
X-Robots-Tag:noindex
X-PUBLISHED-TTL:PT1H
BEGIN:VTIMEZONE
TZID:America/Chicago
BEGIN:DAYLIGHT
TZOFFSETFROM:-0600
TZOFFSETTO:-0500
TZNAME:CDT
DTSTART:20250309T080000
END:DAYLIGHT
BEGIN:STANDARD
TZOFFSETFROM:-0500
TZOFFSETTO:-0600
TZNAME:CST
DTSTART:20251102T070000
END:STANDARD
BEGIN:DAYLIGHT
TZOFFSETFROM:-0600
TZOFFSETTO:-0500
TZNAME:CDT
DTSTART:20260308T080000
END:DAYLIGHT
BEGIN:STANDARD
TZOFFSETFROM:-0500
TZOFFSETTO:-0600
TZNAME:CST
DTSTART:20261101T070000
END:STANDARD
BEGIN:DAYLIGHT
TZOFFSETFROM:-0600
TZOFFSETTO:-0500
TZNAME:CDT
DTSTART:20270314T080000
END:DAYLIGHT
BEGIN:STANDARD
TZOFFSETFROM:-0500
TZOFFSETTO:-0600
TZNAME:CST
DTSTART:20271107T070000
END:STANDARD
END:VTIMEZONE
BEGIN:VEVENT
DTSTART;VALUE=DATE:20260419
DTEND;VALUE=DATE:20260420
DTSTAMP:20260421T200706
CREATED:20260402T154128Z
LAST-MODIFIED:20260417T135733Z
UID:10000935-1776556800-1776643199@ecologyactioncenter.org
SUMMARY:Tree Planting Workday: April 19\, 2026 (Multiple Shifts)
DESCRIPTION:Help the Ecology Action Center plant small (1-3 ft tall) bareroot seedling trees to improve air quality\, sequester carbon\, increase wildlife habitat\, and more! \nVolunteers must be 18 or older. Tools and heavy equipment will be in use and all volunteers must be able to safely use hand tools\, stay on their feet for 3 hours at a time and lift a moderate weight (~15 pounds). \nPlease dress appropriately for weather conditions and working outside. Long pants and closed-toed shoes or boots are required; no sandals or flip-flops. More information as well as a confirmation email will be communicated to volunteers prior to the workday and NOT at sign up. \n*This workday is closed. Please consider signing up for a different workday at ecologyactioncenter.org/volunteering*
URL:https://ecologyactioncenter.org/event/tree-planting-workday-april-19-2026-multiple-shifts/
CATEGORIES:Tree Corps,volunteer
END:VEVENT
BEGIN:VEVENT
DTSTART;TZID=America/Chicago:20260420T180000
DTEND;TZID=America/Chicago:20260420T193000
DTSTAMP:20260421T200706
CREATED:20260413T163642Z
LAST-MODIFIED:20260413T163724Z
UID:10000942-1776708000-1776713400@ecologyactioncenter.org
SUMMARY:Let's Talk Data Centers
DESCRIPTION:Let’s Talk Data Centers: Our Water\, Our Power\, Our Communities\nMonday\, April 20 | 6:00-7:30PM\nBloomington Public Library\, Community Room 1 & 2\n205 E Olive St\, Bloomington\, IL 61701 \nJoin the Citizens Utility Board\, Faith in Place\, Illinois Environmental Council\, and Prairie Rivers Network for a community conversation about data centers\, their impacts on communities\, and potential solutions and protections—both locally and statewide. \nData centers are expanding rapidly across Illinois\, bringing new demands for electricity\, water\, and infrastructure. But communities are often left without clear information about how these facilities may affect local resources\, energy prices\, and environmental health. \nWhat do these developments mean for our water supply? How might these affect our energy grid and utility bills? How can communities ensure their voices are a part of the discussion that affect our shared resources? \nThis interactive event will include overviews of the landscape of data center development\, the impacts to communities with data centers\, and potential solutions to these problems. The brief presentations will be broken up by small breakout conversations where community members can share their perspectives and ask questions. The evening will conclude with an opportunity to identify next steps and develop community-informed actions. \nWhether you’re new to the issue or already engaged\, this event is an opportunity to learn\, ask questions\, and help shape how our communities respond to the growing data center industry.
URL:https://ecologyactioncenter.org/event/lets-talk-data-centers/
LOCATION:Bloomington Public Library Community Room\, 205 E Olive Street\, Bloomington\, IL\, 61701\, United States
GEO:40.4768209;-88.9921371
X-APPLE-STRUCTURED-LOCATION;VALUE=URI;X-ADDRESS=Bloomington Public Library Community Room 205 E Olive Street Bloomington IL 61701 United States;X-APPLE-RADIUS=500;X-TITLE=205 E Olive Street:geo:-88.9921371,40.4768209
END:VEVENT
BEGIN:VEVENT
DTSTART;TZID=America/Chicago:20260421T173000
DTEND;TZID=America/Chicago:20260421T183000
DTSTAMP:20260421T200706
CREATED:20250718T215437Z
LAST-MODIFIED:20260213T192730Z
UID:10000834-1776792600-1776796200@ecologyactioncenter.org
SUMMARY:Vermicomposting Workshop- Tuesday\, April 21\, 2026 (5:30-6:30pm)
DESCRIPTION:Love to cook and are looking for a way to compost your food scraps\, but backyard composting isn’t an option for you? Try Vermicomposting or composting with worms! Vermicomposting is a great way to reduce your carbon footprint and stop food waste in your home. No backyard or large area required\, so this is perfect for apartments\, dorms\, etc.\, plus it is basically odorless! \nThe Workshop costs $35.00 to participate and space is limited. Workshop fee includes all materials including worms\, worm bedding\, a bin to host your worm farm\, and all the knowledge you need to start vermicomposting. We will specifically be going over the benefits of vermicomposting\, how to start\, how to harvest castings\, and how to troubleshoot common problems. Registration is required and closes one week before workshop date. \n \n \nThe Ecology Action Center will make reasonable accommodations for participation in public programs and services. To request accommodation\, please call 309-454-3169×11 or go to ecologyactioncenter.org/accommodation. Please provide two weeks advance notice if possible.
URL:https://ecologyactioncenter.org/event/vermicomposting-workshop-wednesday-october-22-2025-530-630pm/
CATEGORIES:Compost Workshops,Workshops
END:VEVENT
BEGIN:VEVENT
DTSTART;VALUE=DATE:20260422
DTEND;VALUE=DATE:20260423
DTSTAMP:20260421T200706
CREATED:20260402T155336Z
LAST-MODIFIED:20260421T154350Z
UID:10000939-1776816000-1776902399@ecologyactioncenter.org
SUMMARY:Earth Day Tree Planting: April 22\, 2026 (Multiple Shifts)
DESCRIPTION:Help the Ecology Action Center plant small (1-3 ft tall) bareroot seedling trees to improve air quality\, sequester carbon\, increase wildlife habitat\, and more! \nVolunteers must be 18 or older. Tools and heavy equipment will be in use and all volunteers must be able to safely use hand tools\, stay on their feet for 3 hours at a time and lift a moderate weight (~15 pounds). \nPlease dress appropriately for weather conditions and working outside. Long pants and closed-toed shoes or boots are required; no sandals or flip-flops. More information as well as a confirmation email will be communicated to volunteers prior to the workday and NOT at sign up. Sign up below. \n  \n* Please note that this event registration has closed. Please consider signing up for one of our other volunteer opportunities at ecologyactioncenter.org/volunteering*
URL:https://ecologyactioncenter.org/event/earth-day-tree-planting-april-22-2026-multiple-shifts/
CATEGORIES:Tree Corps,volunteer
END:VEVENT
BEGIN:VEVENT
DTSTART;TZID=America/Chicago:20260423T093000
DTEND;TZID=America/Chicago:20260423T120000
DTSTAMP:20260421T200706
CREATED:20260417T200634Z
LAST-MODIFIED:20260417T200634Z
UID:10000944-1776936600-1776945600@ecologyactioncenter.org
SUMMARY:Tree Prep Workday: April 23\, 2026 (9:30-12:00pm)
DESCRIPTION:Help the Ecology Action Center prepare small (1-3′ tall) bareroot seedling trees for planting. These trees will help to improve air quality\, sequester carbon\, increase wildlife habitat\, and more! Volunteers must be 18 years old or older or alternately 14 years or older and accompanied by a parent or legal guardian. Tools and heavy equipment might be in use and all volunteers must be able to safely use hand tools\, stay on their feet for 3 hours at a time and lift a moderate weight (~15 pounds). Please dress appropriately for weather conditions and working outside. Closed-toed shoes or boots are required – no sandals or flip-flops. More information as well as a confirmation email will be communicated to volunteers prior to the workday and NOT at sign up.
URL:https://ecologyactioncenter.org/event/tree-prep-workday-april-23-2026-930-1200pm/
CATEGORIES:Tree Corps,volunteer
END:VEVENT
BEGIN:VEVENT
DTSTART;VALUE=DATE:20260424
DTEND;VALUE=DATE:20260428
DTSTAMP:20260421T200706
CREATED:20260326T213033Z
LAST-MODIFIED:20260326T213157Z
UID:10000932-1776988800-1777334399@ecologyactioncenter.org
SUMMARY:Central Illinois 2026 City Nature Challenge
DESCRIPTION:The Grand Prairie Master Naturalists would like to invite you and your network to join the City Nature Challenge 2026. From Friday\, April 24 to Monday\, April 27\, 2026\, cities around the world will be using the iNaturalist app to find and photograph as many wild plants\, animals\, and fungi as possible. Our observations will help scientists and land managers better understand the species that thrive in our region. \nNo expertise is needed! Anyone aged 13+ can participate\, and it’s completely free and easy. \nHow to Participate:\n\nDownload the App: Get the free iNaturalist app on your smartphone (available on the App Store or Google Play) and create an account. Training for using the app will be offered; please look out for training announcements in the future.\nFind Wildlife: Explore your local park\, backyard\, neighborhood\, or natural area and take pictures of any wild plants\, fungi\, or animals you find from April 24-27. (If it’s a garden plant or pet\, please mark it as “captive/cultivated” in the app; these will not count towards the City Nature Challenge).\nShare! Upload your observations to the iNaturalist app during the challenge period (April 24 – April 27). Observations within Central Illinois’ participating counties’ boundaries will automatically count towards our area’s total.\nHelp Identify: As the data is collected and submitted\, you can help identify the species observed by other participants to build a better understanding of local biodiversity\n\nWhy Participate?\n\nLearn: Discover the amazing organisms you share your city with.\nContribute to Science: Your observations provide valuable data for conservation efforts and scientific research.\nCompete: Help Central Illinois rise on the global leaderboards for the most observations\, species\, and participants!\n\nFor more information and local events\, email us at cicnc2026@gmail.com or the visit official website at citynaturechallenge.org.
URL:https://ecologyactioncenter.org/event/central-illinois-for-the-2026-city-nature-challenge/
END:VEVENT
BEGIN:VEVENT
DTSTART;VALUE=DATE:20260425
DTEND;VALUE=DATE:20260426
DTSTAMP:20260421T200706
CREATED:20260402T154259Z
LAST-MODIFIED:20260402T154259Z
UID:10000936-1777075200-1777161599@ecologyactioncenter.org
SUMMARY:Tree Planting Workday: April 25\, 2026 (Multiple Shifts)
DESCRIPTION:Help the Ecology Action Center plant small (1-3 ft tall) bareroot seedling trees to improve air quality\, sequester carbon\, increase wildlife habitat\, and more! \nVolunteers must be 18 or older. Tools and heavy equipment will be in use and all volunteers must be able to safely use hand tools\, stay on their feet for 3 hours at a time and lift a moderate weight (~15 pounds). \nPlease dress appropriately for weather conditions and working outside. Long pants and closed-toed shoes or boots are required; no sandals or flip-flops. More information as well as a confirmation email will be communicated to volunteers prior to the workday and NOT at sign up.
URL:https://ecologyactioncenter.org/event/tree-planting-workday-april-25-2026-multiple-shifts/
CATEGORIES:Tree Corps,volunteer
END:VEVENT
BEGIN:VEVENT
DTSTART;TZID=America/Chicago:20260425T080000
DTEND;TZID=America/Chicago:20260425T100000
DTSTAMP:20260421T200706
CREATED:20260324T155212Z
LAST-MODIFIED:20260324T155212Z
UID:10000927-1777104000-1777111200@ecologyactioncenter.org
SUMMARY:Grand Prairie Bird Alliance Bird Outing
DESCRIPTION:As spring migration continues\, it is a great time to join Grand Prairie Bird Alliance for a bird outing! Join local birdwatching experts for this bird outing at Schroeder Preserve\, (16041 E 700 North Rd\, Heyworth). The outing is appropriate for all ages and all skill levels. There is no pressure to know anything about birds. We can give you some tips\, and we even have loaner binoculars. We hope you can join us! \nIf you have questions about accessibility\, please email grandprairiebirdalliance@gmail.com.
URL:https://ecologyactioncenter.org/event/grand-prairie-bird-alliance-bird-outing-3/
LOCATION:Schroeder Preserve\, 16041 E 700 North Rd\, Heyworth\, IL
ATTACH;FMTTYPE=image/jpeg:https://ecologyactioncenter.org/wp-content/uploads/2026/03/Chestnut_sided_warbler-1.jpg
ORGANIZER;CN="Grand Prairie Bird Alliance":MAILTO:grandprairiebirdalliance@gmail.com
END:VEVENT
BEGIN:VEVENT
DTSTART;TZID=America/Chicago:20260425T090000
DTEND;TZID=America/Chicago:20260425T100000
DTSTAMP:20260421T200706
CREATED:20260213T191934Z
LAST-MODIFIED:20260213T192541Z
UID:10000902-1777107600-1777111200@ecologyactioncenter.org
SUMMARY:Rain Barrel Workshop: Saturday\, April 25\, 2026 (9:00-10:00am)
DESCRIPTION:The EAC’s rain barrel workshops teach attendees about the importance of rain water catchment in preventing storm water runoff pollution! Attendees will learn how to locate\, install\, and set up their rain barrel. We’ll also provide tips to transition downspouts for rain barrel usage\, and information on proper winter storage. Workshops cost $60.00 for general public and $50.00 for EAC Members. \nThroughout our workshop there will be ample opportunity for Q&A with EAC staff\, who can answer questions about beneficial environmental impacts as well as practical everyday use of rain barrels. \nBy the end of the workshop\, participants will have a sound understanding of the individual and community benefits of having a rain barrel\, and can be confident about next steps to install\, use and care for one. Participants will leave with their very own rain barrel made from a repurposed food-grade 55 gallon drum. \n \n*Workshop registration closes 3 days before the workshop start date.* \nThe Ecology Action Center will make reasonable accommodations for participation in public programs and services. To request accommodation\, please call 309-454-3169×11 or go to ecologyactioncenter.org/accommodation. Please provide two weeks advance notice if possible.
URL:https://ecologyactioncenter.org/event/rain-barrel-workshop-saturday-april-25-2026-530pm/
CATEGORIES:Rain Barrel Workshops,Workshops
END:VEVENT
BEGIN:VEVENT
DTSTART;TZID=America/Chicago:20260425T090000
DTEND;TZID=America/Chicago:20260425T120000
DTSTAMP:20260421T200706
CREATED:20260309T222939Z
LAST-MODIFIED:20260409T215306Z
UID:10000912-1777107600-1777118400@ecologyactioncenter.org
SUMMARY:Earth Day Constitution Trail and Sugar Creek Clean Up: April 25\, 2026 (9:00-12:00pm)
DESCRIPTION:Celebrate Earth Day with the Ecology Action Center! Volunteer to help out at our annual Constitution Trail and Sugar Creek clean-up event on Saturday\, April 25\, 2026 from 9 a.m. to noon! \nThe EAC and our community partners Friends of the Constitution Trail need help cleaning up the trail from the Chateau west to Audubon Gardens. \nA parent or guardian must accompany minors. Dress appropriately for the weather and bring your own work gloves if possible. Trash bags and trash grabbers will be provided.  Pre-registration REQUIRED for all individuals (please sign up family members individually) – sign up below. \nIf you are not available to join us for this workday\, but still want to help\, you can create your own clean-up crew with your family pod or sign up for one of our mCLEAN Up Crew Workdays.  \n*Note this event has reached capacity\, please consider volunteering for one of our other programs like Tree-Corps. For questions\, please call 309-454-3169*
URL:https://ecologyactioncenter.org/event/earth-day-constitution-trail-and-sugar-creek-clean-up-april-25-2026-900-1200pm/
LOCATION:The Chateau\, 1621 Jumer Dr\, Bloomington\, IL\, 61704\, United States
CATEGORIES:Trash Clean Up,volunteer
GEO:40.5060779;-88.9513571
X-APPLE-STRUCTURED-LOCATION;VALUE=URI;X-ADDRESS=The Chateau 1621 Jumer Dr Bloomington IL 61704 United States;X-APPLE-RADIUS=500;X-TITLE=1621 Jumer Dr:geo:-88.9513571,40.5060779
END:VEVENT
BEGIN:VEVENT
DTSTART;TZID=America/Chicago:20260425T100000
DTEND;TZID=America/Chicago:20260425T110000
DTSTAMP:20260421T200706
CREATED:20260414T153918Z
LAST-MODIFIED:20260414T153918Z
UID:10000943-1777111200-1777114800@ecologyactioncenter.org
SUMMARY:Future Home Living with COII
DESCRIPTION:“Future Home Living with COII” is a free public event occurring on April 25 at the Bloomington Public Library Community Room from 10:00am to 11:00am! We encourage those interested in sustainability\, conservation\, and wellness in the home to attend. If you are curious about new housing and innovative approaches to home design\, this is for you! Ryan Reber\, COII’s Lead Project Architect is going to guide us through an in-depth look at the COII home design. Rebecca DJ\, CEO and Founder of COII will be introducing COII’s first community “Maple Square”. We will have a small gift for those who attend\, we encourage you to register at www.coii.co/events\nWe look forward to seeing you there!
URL:https://ecologyactioncenter.org/event/future-home-living-with-coii/
LOCATION:Bloomington Public Library Community Room\, 205 E Olive Street\, Bloomington\, IL\, 61701\, United States
ATTACH;FMTTYPE=image/png:https://ecologyactioncenter.org/wp-content/uploads/2026/04/Future-Home-Living-with-COII-Flyer-Facebook-Post-2.png
GEO:40.4768209;-88.9921371
X-APPLE-STRUCTURED-LOCATION;VALUE=URI;X-ADDRESS=Bloomington Public Library Community Room 205 E Olive Street Bloomington IL 61701 United States;X-APPLE-RADIUS=500;X-TITLE=205 E Olive Street:geo:-88.9921371,40.4768209
END:VEVENT
BEGIN:VEVENT
DTSTART;TZID=America/Chicago:20260425T103000
DTEND;TZID=America/Chicago:20260425T113000
DTSTAMP:20260421T200706
CREATED:20260213T192322Z
LAST-MODIFIED:20260213T192322Z
UID:10000899-1777113000-1777116600@ecologyactioncenter.org
SUMMARY:Backyard Composting Workshop: Saturday\, April 25\, 2026 (10:30-11:30am)
DESCRIPTION:The EAC’s compost workshop will cover the basics of backyard composting. You’ll learn basic techniques to build your compost pile\, discuss what materials to include\, and talk about what to do with compostable materials that don’t work in a backyard setting. This workshop will additionally help participants understand how to monitor and maintain their compost\, as well as how to know when their compost is done and safe to use! \n \nOur educators will provide resources for help identifying jumping worms\, and tips for using your compost bin\, thermometer\, and stirrer to keep them at bay. By the end of the workshop\, participants will have a sound understanding of the individual and community benefits of composting\, and can be confident about next steps to set up and monitor compost in their own backyard. \nFor $35 ($25 for EAC members) attendees get backyard composting best practices information and a basic compost bin from a repurposed 55-gallon drum to take home. For $110\, attendees get this same compost bin\, backyard composting best practices information\, a large thermometer to monitor compost pile temperature\, and an aerator for stirring their compost pile. \n \n*Workshop registration closes 3 days before the workshop.* \nThe Ecology Action Center will make reasonable accommodations for participation in public programs and services. To request accommodation\, please call 309-454-3169×11 or go to ecologyactioncenter.org/accommodation. Please provide two weeks advance notice if possible.
URL:https://ecologyactioncenter.org/event/backyard-composting-workshop-saturday-april-25-2026-1030-1130am/
CATEGORIES:Compost Workshops,Workshops
END:VEVENT
BEGIN:VEVENT
DTSTART;TZID=America/Chicago:20260425T113000
DTEND;TZID=America/Chicago:20260425T123000
DTSTAMP:20260421T200706
CREATED:20260213T192950Z
LAST-MODIFIED:20260213T193137Z
UID:10000905-1777116600-1777120200@ecologyactioncenter.org
SUMMARY:Vermicomposting Workshop- Saturday\, April 25\, 2026 (11:30am-12:30pm)
DESCRIPTION:Love to cook and are looking for a way to compost your food scraps\, but backyard composting isn’t an option for you? Try Vermicomposting or composting with worms! Vermicomposting is a great way to reduce your carbon footprint and stop food waste in your home. No backyard or large area required\, so this is perfect for apartments\, dorms\, etc.\, plus it is basically odorless! \nThe Workshop costs $35.00 to participate and space is limited. Workshop fee includes all materials including worms\, worm bedding\, a bin to host your worm farm\, and all the knowledge you need to start vermicomposting. We will specifically be going over the benefits of vermicomposting\, how to start\, how to harvest castings\, and how to troubleshoot common problems. Registration is required and closes one week before workshop date. \n \n \nThe Ecology Action Center will make reasonable accommodations for participation in public programs and services. To request accommodation\, please call 309-454-3169×11 or go to ecologyactioncenter.org/accommodation. Please provide two weeks advance notice if possible.
URL:https://ecologyactioncenter.org/event/vermicomposting-workshop-saturday-april-25-2026-1130-1230am/
CATEGORIES:Compost Workshops,Workshops
END:VEVENT
END:VCALENDAR