BEGIN:VCALENDAR
VERSION:2.0
PRODID:-// - ECPv6.15.20//NONSGML v1.0//EN
CALSCALE:GREGORIAN
METHOD:PUBLISH
X-ORIGINAL-URL:https://ecologyactioncenter.org
X-WR-CALDESC:Events for 
REFRESH-INTERVAL;VALUE=DURATION:PT1H
X-Robots-Tag:noindex
X-PUBLISHED-TTL:PT1H
BEGIN:VTIMEZONE
TZID:America/Chicago
BEGIN:DAYLIGHT
TZOFFSETFROM:-0600
TZOFFSETTO:-0500
TZNAME:CDT
DTSTART:20250309T080000
END:DAYLIGHT
BEGIN:STANDARD
TZOFFSETFROM:-0500
TZOFFSETTO:-0600
TZNAME:CST
DTSTART:20251102T070000
END:STANDARD
BEGIN:DAYLIGHT
TZOFFSETFROM:-0600
TZOFFSETTO:-0500
TZNAME:CDT
DTSTART:20260308T080000
END:DAYLIGHT
BEGIN:STANDARD
TZOFFSETFROM:-0500
TZOFFSETTO:-0600
TZNAME:CST
DTSTART:20261101T070000
END:STANDARD
BEGIN:DAYLIGHT
TZOFFSETFROM:-0600
TZOFFSETTO:-0500
TZNAME:CDT
DTSTART:20270314T080000
END:DAYLIGHT
BEGIN:STANDARD
TZOFFSETFROM:-0500
TZOFFSETTO:-0600
TZNAME:CST
DTSTART:20271107T070000
END:STANDARD
END:VTIMEZONE
BEGIN:VEVENT
DTSTART;VALUE=DATE:20260424
DTEND;VALUE=DATE:20260428
DTSTAMP:20260421T214059
CREATED:20260326T213033Z
LAST-MODIFIED:20260326T213157Z
UID:10000932-1776988800-1777334399@ecologyactioncenter.org
SUMMARY:Central Illinois 2026 City Nature Challenge
DESCRIPTION:The Grand Prairie Master Naturalists would like to invite you and your network to join the City Nature Challenge 2026. From Friday\, April 24 to Monday\, April 27\, 2026\, cities around the world will be using the iNaturalist app to find and photograph as many wild plants\, animals\, and fungi as possible. Our observations will help scientists and land managers better understand the species that thrive in our region. \nNo expertise is needed! Anyone aged 13+ can participate\, and it’s completely free and easy. \nHow to Participate:\n\nDownload the App: Get the free iNaturalist app on your smartphone (available on the App Store or Google Play) and create an account. Training for using the app will be offered; please look out for training announcements in the future.\nFind Wildlife: Explore your local park\, backyard\, neighborhood\, or natural area and take pictures of any wild plants\, fungi\, or animals you find from April 24-27. (If it’s a garden plant or pet\, please mark it as “captive/cultivated” in the app; these will not count towards the City Nature Challenge).\nShare! Upload your observations to the iNaturalist app during the challenge period (April 24 – April 27). Observations within Central Illinois’ participating counties’ boundaries will automatically count towards our area’s total.\nHelp Identify: As the data is collected and submitted\, you can help identify the species observed by other participants to build a better understanding of local biodiversity\n\nWhy Participate?\n\nLearn: Discover the amazing organisms you share your city with.\nContribute to Science: Your observations provide valuable data for conservation efforts and scientific research.\nCompete: Help Central Illinois rise on the global leaderboards for the most observations\, species\, and participants!\n\nFor more information and local events\, email us at cicnc2026@gmail.com or the visit official website at citynaturechallenge.org.
URL:https://ecologyactioncenter.org/event/central-illinois-for-the-2026-city-nature-challenge/
END:VEVENT
BEGIN:VEVENT
DTSTART;VALUE=DATE:20260426
DTEND;VALUE=DATE:20260427
DTSTAMP:20260421T214059
CREATED:20260402T154424Z
LAST-MODIFIED:20260402T154424Z
UID:10000937-1777161600-1777247999@ecologyactioncenter.org
SUMMARY:Tree Planting Workday: April 26\, 2026 (Multiple Shifts)
DESCRIPTION:Help the Ecology Action Center plant small (1-3 ft tall) bareroot seedling trees to improve air quality\, sequester carbon\, increase wildlife habitat\, and more! \nVolunteers must be 18 or older. Tools and heavy equipment will be in use and all volunteers must be able to safely use hand tools\, stay on their feet for 3 hours at a time and lift a moderate weight (~15 pounds). \nPlease dress appropriately for weather conditions and working outside. Long pants and closed-toed shoes or boots are required; no sandals or flip-flops. More information as well as a confirmation email will be communicated to volunteers prior to the workday and NOT at sign up.
URL:https://ecologyactioncenter.org/event/tree-planting-workday-april-26-2026-multiple-shifts/
CATEGORIES:Tree Corps,volunteer
END:VEVENT
BEGIN:VEVENT
DTSTART;TZID=America/Chicago:20260428T173000
DTEND;TZID=America/Chicago:20260428T183000
DTSTAMP:20260421T214059
CREATED:20260213T192438Z
LAST-MODIFIED:20260213T192438Z
UID:10000903-1777397400-1777401000@ecologyactioncenter.org
SUMMARY:Backyard Composting Workshop: Tuesday\, April 28\, 2026 (5:30-6:30pm)
DESCRIPTION:The EAC’s compost workshop will cover the basics of backyard composting. You’ll learn basic techniques to build your compost pile\, discuss what materials to include\, and talk about what to do with compostable materials that don’t work in a backyard setting. This workshop will additionally help participants understand how to monitor and maintain their compost\, as well as how to know when their compost is done and safe to use! \n \nOur educators will provide resources for help identifying jumping worms\, and tips for using your compost bin\, thermometer\, and stirrer to keep them at bay. By the end of the workshop\, participants will have a sound understanding of the individual and community benefits of composting\, and can be confident about next steps to set up and monitor compost in their own backyard. \nFor $35 ($25 for EAC members) attendees get backyard composting best practices information and a basic compost bin from a repurposed 55-gallon drum to take home. For $110\, attendees get this same compost bin\, backyard composting best practices information\, a large thermometer to monitor compost pile temperature\, and an aerator for stirring their compost pile. \n \n*Workshop registration closes 3 days before the workshop.* \nThe Ecology Action Center will make reasonable accommodations for participation in public programs and services. To request accommodation\, please call 309-454-3169×11 or go to ecologyactioncenter.org/accommodation. Please provide two weeks advance notice if possible.
URL:https://ecologyactioncenter.org/event/backyard-composting-workshop-tuesday-april-28-2026-530-630pm/
CATEGORIES:Compost Workshops,Workshops
END:VEVENT
BEGIN:VEVENT
DTSTART;VALUE=DATE:20260501
DTEND;VALUE=DATE:20260502
DTSTAMP:20260421T214059
CREATED:20260417T200522Z
LAST-MODIFIED:20260417T200522Z
UID:10000945-1777593600-1777679999@ecologyactioncenter.org
SUMMARY:Tree Prep Workday: May 1 (Multiple Shifts)
DESCRIPTION:Help the Ecology Action Center prepare small (1-3′ tall) bareroot seedling trees for planting. These trees will help to improve air quality\, sequester carbon\, increase wildlife habitat\, and more! Volunteers must be 18 years old or older or alternately 14 years or older and accompanied by a parent or legal guardian. Tools and heavy equipment might be in use and all volunteers must be able to safely use hand tools\, stay on their feet for 3 hours at a time and lift a moderate weight (~15 pounds). Please dress appropriately for weather conditions and working outside. Closed-toed shoes or boots are required – no sandals or flip-flops. More information as well as a confirmation email will be communicated to volunteers prior to the workday and NOT at sign up. \n \n 
URL:https://ecologyactioncenter.org/event/tree-prep-workday-may-1-multiple-shifts/
CATEGORIES:Tree Corps,volunteer
END:VEVENT
BEGIN:VEVENT
DTSTART;VALUE=DATE:20260502
DTEND;VALUE=DATE:20260503
DTSTAMP:20260421T214100
CREATED:20260402T154530Z
LAST-MODIFIED:20260402T154530Z
UID:10000938-1777680000-1777766399@ecologyactioncenter.org
SUMMARY:Tree Planting Workday: May 2\, 2026 (Multiple Shifts)
DESCRIPTION:Help the Ecology Action Center plant small (1-3 ft tall) bareroot seedling trees to improve air quality\, sequester carbon\, increase wildlife habitat\, and more! \nVolunteers must be 18 or older. Tools and heavy equipment will be in use and all volunteers must be able to safely use hand tools\, stay on their feet for 3 hours at a time and lift a moderate weight (~15 pounds). \nPlease dress appropriately for weather conditions and working outside. Long pants and closed-toed shoes or boots are required; no sandals or flip-flops. More information as well as a confirmation email will be communicated to volunteers prior to the workday and NOT at sign up.
URL:https://ecologyactioncenter.org/event/tree-planting-workday-may-2-2026-multiple-shifts/
CATEGORIES:Tree Corps,volunteer
END:VEVENT
BEGIN:VEVENT
DTSTART;TZID=America/Chicago:20260502T080000
DTEND;TZID=America/Chicago:20260502T100000
DTSTAMP:20260421T214100
CREATED:20260324T154535Z
LAST-MODIFIED:20260324T154535Z
UID:10000928-1777708800-1777716000@ecologyactioncenter.org
SUMMARY:Grand Prairie Bird Alliance Bird Outing
DESCRIPTION:As spring migration continues\, there is no better time to join Grand Prairie Bird Alliance for a bird outing! Join local birdwatching experts for this bird outing at Hidden Creek (100 W. Sycamore\, Normal) on May 2 from 8:00-10:00am. \nThe outing is appropriate for all ages and all skill levels. There is no pressure to know anything about birds. We can give you some tips\, and we even have loaner binoculars. We hope you can join us! \nIf you have questions about accessibility\, please email grandprairiebirdalliance@gmail.com.
URL:https://ecologyactioncenter.org/event/grand-prairie-bird-alliance-bird-outing-2/
LOCATION:Hidden Creek Park\, 100 W. Sycamore\, Normal\, 61761
ATTACH;FMTTYPE=image/png:https://ecologyactioncenter.org/wp-content/uploads/2026/03/redheaded-1.png
ORGANIZER;CN="Grand Prairie Bird Alliance":MAILTO:grandprairiebirdalliance@gmail.com
END:VEVENT
END:VCALENDAR