BEGIN:VCALENDAR
VERSION:2.0
PRODID:-// - ECPv6.15.20//NONSGML v1.0//EN
CALSCALE:GREGORIAN
METHOD:PUBLISH
X-ORIGINAL-URL:https://ecologyactioncenter.org
X-WR-CALDESC:Events for 
REFRESH-INTERVAL;VALUE=DURATION:PT1H
X-Robots-Tag:noindex
X-PUBLISHED-TTL:PT1H
BEGIN:VTIMEZONE
TZID:America/Chicago
BEGIN:DAYLIGHT
TZOFFSETFROM:-0600
TZOFFSETTO:-0500
TZNAME:CDT
DTSTART:20250309T080000
END:DAYLIGHT
BEGIN:STANDARD
TZOFFSETFROM:-0500
TZOFFSETTO:-0600
TZNAME:CST
DTSTART:20251102T070000
END:STANDARD
BEGIN:DAYLIGHT
TZOFFSETFROM:-0600
TZOFFSETTO:-0500
TZNAME:CDT
DTSTART:20260308T080000
END:DAYLIGHT
BEGIN:STANDARD
TZOFFSETFROM:-0500
TZOFFSETTO:-0600
TZNAME:CST
DTSTART:20261101T070000
END:STANDARD
BEGIN:DAYLIGHT
TZOFFSETFROM:-0600
TZOFFSETTO:-0500
TZNAME:CDT
DTSTART:20270314T080000
END:DAYLIGHT
BEGIN:STANDARD
TZOFFSETFROM:-0500
TZOFFSETTO:-0600
TZNAME:CST
DTSTART:20271107T070000
END:STANDARD
END:VTIMEZONE
BEGIN:VEVENT
DTSTART;TZID=America/Chicago:20260206T110000
DTEND;TZID=America/Chicago:20260206T130000
DTSTAMP:20260421T200846
CREATED:20260127T223113Z
LAST-MODIFIED:20260127T223113Z
UID:10000892-1770375600-1770382800@ecologyactioncenter.org
SUMMARY:Lead-Based Paint Hazard Reduction Program
DESCRIPTION:Do you own a single-family rental property or a rental building with four (4) units or fewer built before 1978? The City of Bloomington invites you to an upcoming lunch and learn informational session on Friday\, February 6 from 11 am to 1 pm at the McLean County Health Department about the Lead-Based Paint Hazard Reduction Program\, a grant opportunity available to eligible rental property owners in the 61701 ZIP code. \nThe City has a limited time to spend these grant funds. This session will explain how the program can provide free lead testing\, remediation\, and qualifying home improvements\, at no cost to the property owner. \nSession topics include: \n\nProgram eligibility and approval requirements\nApplication steps for property owners and tenants\nTypes of improvements covered\nTenant relocation during construction\n\nApproval is based on whether children or pregnant women live in the unit(s) and the tenant’s income level. The property owner’s income is not considered. Both owners and tenants must complete applications and submit required documentation. City staff are available to assist throughout the process. \nThe program covers testing and construction costs. Common improvements include repairs or replacement of windows\, doors\, staircases\, floors\, and exterior components. Temporary tenant relocation during construction is coordinated by a grant representative\, with all costs covered. Each rental unit must apply and be approved separately. \nWe encourage interested property owners to attend and learn how this program can support your property while helping create safer\, healthier homes for Bloomington residents. We look forward to connecting with you soon. Please RSVP by contacting Program Manager Lori Schambureck at lschambureck@cityblm.org\, or at 309.660.5211. \n 
URL:https://ecologyactioncenter.org/event/lead-based-paint-hazard-reduction-program/
LOCATION:McLean County Health Department\, 200 West Front Street\, Bloomington\, 61701\, United States
END:VEVENT
END:VCALENDAR